Workbook

Sheet KM
B1: VZDIALENOSŤ MEDZI MESTAMI V KM
B2: SA TKD WT | C2: Bratislava | D2: Trenčín | E2: Zvolen | F2: Lipt.Mikuláš | G2: Hnúšťa | H2: Rim.Sobota | I2: Rožňava | J2: Košice | K2: Prešov | L2: Humenné | M2: Snina
B3: Bratislava | C3: 0 | D3: 131 | E3: 196 | F3: 277 | G3: 273 | H3: 277 | I3: 336 | J3: 404 | K3: 403 | L3: 492 | M3: 513
B4: Trenčín | C4: 131 | D4: 0 | E4: 129 | F4: 171 | G4: 206 | H4: 210 | I4: 269 | J4: 338 | K4: 297 | L4: 373 | M4: 394
B5: Zvolen | C5: 196 | D5: 129 | E5: 0 | F5: 95 | G5: 80 | H5: 83 | I5: 143 | J5: 207 | K5: 213 | L5: 284 | M5: 305
B6: Lipt.Mikuláš | C6: 277 | D6: 171 | E6: 95 | F6: 0 | G6: 96 | H6: 121 | I6: 126 | J6: 172 | K6: 133 | L6: 207 | M6: 228
B7: Hnúšťa | C7: 273 | D7: 206 | E7: 80 | F7: 96 | G7: 0 | H7: 25 | I7: 68 | J7: 137 | K7: 141 | L7: 214 | M7: 233
B8: Rim.Sobota | C8: 277 | D8: 210 | E8: 83 | F8: 121 | G8: 25 | H8: 0 | I8: 61 | J8: 126 | K8: 165 | L8: 202 | M8: 223
B9: Rožňava | C9: 336 | D9: 269 | E9: 143 | F9: 126 | G9: 68 | H9: 61 | I9: 0 | J9: 69 | K9: 89 | L9: 144 | M9: 165
B10: Košice | C10: 404 | D10: 338 | E10: 207 | F10: 172 | G10: 137 | H10: 126 | I10: 69 | J10: 0 | K10: 38 | L10: 75 | M10: 97
B11: Prešov | C11: 403 | D11: 297 | E11: 213 | F11: 133 | G11: 141 | H11: 165 | I11: 89 | J11: 38 | K11: 0 | L11: 84 | M11: 106
B12: Humenné | C12: 492 | D12: 373 | E12: 284 | F12: 207 | G12: 214 | H12: 202 | I12: 144 | J12: 75 | K12: 84 | L12: 0 | M12: 22
B13: Snina | C13: 513 | D13: 394 | E13: 305 | F13: 228 | G13: 233 | H13: 223 | I13: 165 | J13: 97 | K13: 106 | L13: 22 | M13: 0

Sheet EUR
B1: VZDIALENOSŤ MEDZI MESTAMI V EUR
B2: SA TKD WT | C2: Bratislava | D2: Trenčín | E2: Zvolen | F2: Lipt.Mikuláš | G2: Hnúšťa | H2: Rim.Sobota | I2: Rožňava | J2: Košice | K2: Prešov | L2: Humenné | M2: Snina
B3: Bratislava | C3: =IF(KM!C3=0,0,_xlfn.XLOOKUP(KM!C3,'Cennik ZSSK'!$A$4:$A$55,'Cennik ZSSK'!$B$4:$B$55,NA(),0)) -> 0 | D3: =IF(KM!D3=0,0,_xlfn.XLOOKUP(KM!D3,'Cennik ZSSK'!$A$4:$A$55,'Cennik ZSSK'!$B$4:$B$55,NA(),0)) -> 6.7 | E3: =IF(KM!E3=0,0,_xlfn.XLOOKUP(KM!E3,'Cennik ZSSK'!$A$4:$A$55,'Cennik ZSSK'!$B$4:$B$55,NA(),0)) -> 9.4 | F3: =IF(KM!F3=0,0,_xlfn.XLOOKUP(KM!F3,'Cennik ZSSK'!$A$4:$A$55,'Cennik ZSSK'!$B$4:$B$55,NA(),0)) -> 12.7 | G3: =IF(KM!G3=0,0,_xlfn.XLOOKUP(KM!G3,'Cennik ZSSK'!$A$4:$A$55,'Cennik ZSSK'!$B$4:$B$55,NA(),0)) -> 12.5 | H3: =IF(KM!H3=0,0,_xlfn.XLOOKUP(KM!H3,'Cennik ZSSK'!$A$4:$A$55,'Cennik ZSSK'!$B$4:$B$55,NA(),0)) -> 12.7 | I3: =IF(KM!I3=0,0,_xlfn.XLOOKUP(KM!I3,'Cennik ZSSK'!$A$4:$A$55,'Cennik ZSSK'!$B$4:$B$55,NA(),0)) -> 15 | J3: =IF(KM!J3=0,0,_xlfn.XLOOKUP(KM!J3,'Cennik ZSSK'!$A$4:$A$55,'Cennik ZSSK'!$B$4:$B$55,NA(),0)) -> 17.7 | ... M3: =IF(KM!M3=0,0,_xlfn.XLOOKUP(KM!M3,'Cennik ZSSK'!$A$4:$A$55,'Cennik ZSSK'!$B$4:$B$55,NA(),0)) -> 21.9
B4: Trenčín | C4: =IF(KM!C4=0,0,_xlfn.XLOOKUP(KM!C4,'Cennik ZSSK'!$A$4:$A$55,'Cennik ZSSK'!$B$4:$B$55,NA(),0)) -> 6.7 | D4: =IF(KM!D4=0,0,_xlfn.XLOOKUP(KM!D4,'Cennik ZSSK'!$A$4:$A$55,'Cennik ZSSK'!$B$4:$B$55,NA(),0)) -> 0 | E4: =IF(KM!E4=0,0,_xlfn.XLOOKUP(KM!E4,'Cennik ZSSK'!$A$4:$A$55,'Cennik ZSSK'!$B$4:$B$55,NA(),0)) -> 6.6 | F4: =IF(KM!F4=0,0,_xlfn.XLOOKUP(KM!F4,'Cennik ZSSK'!$A$4:$A$55,'Cennik ZSSK'!$B$4:$B$55,NA(),0)) -> 8.4 | G4: =IF(KM!G4=0,0,_xlfn.XLOOKUP(KM!G4,'Cennik ZSSK'!$A$4:$A$55,'Cennik ZSSK'!$B$4:$B$55,NA(),0)) -> 9.8 | H4: =IF(KM!H4=0,0,_xlfn.XLOOKUP(KM!H4,'Cennik ZSSK'!$A$4:$A$55,'Cennik ZSSK'!$B$4:$B$55,NA(),0)) -> 10 | I4: =IF(KM!I4=0,0,_xlfn.XLOOKUP(KM!I4,'Cennik ZSSK'!$A$4:$A$55,'Cennik ZSSK'!$B$4:$B$55,NA(),0)) -> 12.4 | J4: =IF(KM!J4=0,0,_xlfn.XLOOKUP(KM!J4,'Cennik ZSSK'!$A$4:$A$55,'Cennik ZSSK'!$B$4:$B$55,NA(),0)) -> 15.1 | ... M4: =IF(KM!M4=0,0,_xlfn.XLOOKUP(KM!M4,'Cennik ZSSK'!$A$4:$A$55,'Cennik ZSSK'!$B$4:$B$55,NA(),0)) -> 17.3
B5: Zvolen | C5: =IF(KM!C5=0,0,_xlfn.XLOOKUP(KM!C5,'Cennik ZSSK'!$A$4:$A$55,'Cennik ZSSK'!$B$4:$B$55,NA(),0)) -> 9.4 | D5: =IF(KM!D5=0,0,_xlfn.XLOOKUP(KM!D5,'Cennik ZSSK'!$A$4:$A$55,'Cennik ZSSK'!$B$4:$B$55,NA(),0)) -> 6.6 | E5: =IF(KM!E5=0,0,_xlfn.XLOOKUP(KM!E5,'Cennik ZSSK'!$A$4:$A$55,'Cennik ZSSK'!$B$4:$B$55,NA(),0)) -> 0 | F5: =IF(KM!F5=0,0,_xlfn.XLOOKUP(KM!F5,'Cennik ZSSK'!$A$4:$A$55,'Cennik ZSSK'!$B$4:$B$55,NA(),0)) -> 5.2 | G5: =IF(KM!G5=0,0,_xlfn.XLOOKUP(KM!G5,'Cennik ZSSK'!$A$4:$A$55,'Cennik ZSSK'!$B$4:$B$55,NA(),0)) -> 4.4 | H5: =IF(KM!H5=0,0,_xlfn.XLOOKUP(KM!H5,'Cennik ZSSK'!$A$4:$A$55,'Cennik ZSSK'!$B$4:$B$55,NA(),0)) -> 4.6 | I5: =IF(KM!I5=0,0,_xlfn.XLOOKUP(KM!I5,'Cennik ZSSK'!$A$4:$A$55,'Cennik ZSSK'!$B$4:$B$55,NA(),0)) -> 7.2 | J5: =IF(KM!J5=0,0,_xlfn.XLOOKUP(KM!J5,'Cennik ZSSK'!$A$4:$A$55,'Cennik ZSSK'!$B$4:$B$55,NA(),0)) -> 9.8 | ... M5: =IF(KM!M5=0,0,_xlfn.XLOOKUP(KM!M5,'Cennik ZSSK'!$A$4:$A$55,'Cennik ZSSK'!$B$4:$B$55,NA(),0)) -> 13.8
B6: Lipt.Mikuláš | C6: =IF(KM!C6=0,0,_xlfn.XLOOKUP(KM!C6,'Cennik ZSSK'!$A$4:$A$55,'Cennik ZSSK'!$B$4:$B$55,NA(),0)) -> 12.7 | D6: =IF(KM!D6=0,0,_xlfn.XLOOKUP(KM!D6,'Cennik ZSSK'!$A$4:$A$55,'Cennik ZSSK'!$B$4:$B$55,NA(),0)) -> 8.4 | E6: =IF(KM!E6=0,0,_xlfn.XLOOKUP(KM!E6,'Cennik ZSSK'!$A$4:$A$55,'Cennik ZSSK'!$B$4:$B$55,NA(),0)) -> 5.2 | F6: =IF(KM!F6=0,0,_xlfn.XLOOKUP(KM!F6,'Cennik ZSSK'!$A$4:$A$55,'Cennik ZSSK'!$B$4:$B$55,NA(),0)) -> 0 | G6: =IF(KM!G6=0,0,_xlfn.XLOOKUP(KM!G6,'Cennik ZSSK'!$A$4:$A$55,'Cennik ZSSK'!$B$4:$B$55,NA(),0)) -> 5.2 | H6: =IF(KM!H6=0,0,_xlfn.XLOOKUP(KM!H6,'Cennik ZSSK'!$A$4:$A$55,'Cennik ZSSK'!$B$4:$B$55,NA(),0)) -> 6.3 | I6: =IF(KM!I6=0,0,_xlfn.XLOOKUP(KM!I6,'Cennik ZSSK'!$A$4:$A$55,'Cennik ZSSK'!$B$4:$B$55,NA(),0)) -> 6.5 | J6: =IF(KM!J6=0,0,_xlfn.XLOOKUP(KM!J6,'Cennik ZSSK'!$A$4:$A$55,'Cennik ZSSK'!$B$4:$B$55,NA(),0)) -> 8.4 | ... M6: =IF(KM!M6=0,0,_xlfn.XLOOKUP(KM!M6,'Cennik ZSSK'!$A$4:$A$55,'Cennik ZSSK'!$B$4:$B$55,NA(),0)) -> 10.7
B7: Hnúšťa | C7: =IF(KM!C7=0,0,_xlfn.XLOOKUP(KM!C7,'Cennik ZSSK'!$A$4:$A$55,'Cennik ZSSK'!$B$4:$B$55,NA(),0)) -> 12.5 | D7: =IF(KM!D7=0,0,_xlfn.XLOOKUP(KM!D7,'Cennik ZSSK'!$A$4:$A$55,'Cennik ZSSK'!$B$4:$B$55,NA(),0)) -> 9.8 | E7: =IF(KM!E7=0,0,_xlfn.XLOOKUP(KM!E7,'Cennik ZSSK'!$A$4:$A$55,'Cennik ZSSK'!$B$4:$B$55,NA(),0)) -> 4.4 | F7: =IF(KM!F7=0,0,_xlfn.XLOOKUP(KM!F7,'Cennik ZSSK'!$A$4:$A$55,'Cennik ZSSK'!$B$4:$B$55,NA(),0)) -> 5.2 | G7: =IF(KM!G7=0,0,_xlfn.XLOOKUP(KM!G7,'Cennik ZSSK'!$A$4:$A$55,'Cennik ZSSK'!$B$4:$B$55,NA(),0)) -> 0 | H7: =IF(KM!H7=0,0,_xlfn.XLOOKUP(KM!H7,'Cennik ZSSK'!$A$4:$A$55,'Cennik ZSSK'!$B$4:$B$55,NA(),0)) -> 1.6 | I7: =IF(KM!I7=0,0,_xlfn.XLOOKUP(KM!I7,'Cennik ZSSK'!$A$4:$A$55,'Cennik ZSSK'!$B$4:$B$55,NA(),0)) -> 3.8 | J7: =IF(KM!J7=0,0,_xlfn.XLOOKUP(KM!J7,'Cennik ZSSK'!$A$4:$A$55,'Cennik ZSSK'!$B$4:$B$55,NA(),0)) -> 7 | ... M7: =IF(KM!M7=0,0,_xlfn.XLOOKUP(KM!M7,'Cennik ZSSK'!$A$4:$A$55,'Cennik ZSSK'!$B$4:$B$55,NA(),0)) -> 10.9
B8: Rim.Sobota | C8: =IF(KM!C8=0,0,_xlfn.XLOOKUP(KM!C8,'Cennik ZSSK'!$A$4:$A$55,'Cennik ZSSK'!$B$4:$B$55,NA(),0)) -> 12.7 | D8: =IF(KM!D8=0,0,_xlfn.XLOOKUP(KM!D8,'Cennik ZSSK'!$A$4:$A$55,'Cennik ZSSK'!$B$4:$B$55,NA(),0)) -> 10 | E8: =IF(KM!E8=0,0,_xlfn.XLOOKUP(KM!E8,'Cennik ZSSK'!$A$4:$A$55,'Cennik ZSSK'!$B$4:$B$55,NA(),0)) -> 4.6 | F8: =IF(KM!F8=0,0,_xlfn.XLOOKUP(KM!F8,'Cennik ZSSK'!$A$4:$A$55,'Cennik ZSSK'!$B$4:$B$55,NA(),0)) -> 6.3 | G8: =IF(KM!G8=0,0,_xlfn.XLOOKUP(KM!G8,'Cennik ZSSK'!$A$4:$A$55,'Cennik ZSSK'!$B$4:$B$55,NA(),0)) -> 1.6 | H8: =IF(KM!H8=0,0,_xlfn.XLOOKUP(KM!H8,'Cennik ZSSK'!$A$4:$A$55,'Cennik ZSSK'!$B$4:$B$55,NA(),0)) -> 0 | I8: =IF(KM!I8=0,0,_xlfn.XLOOKUP(KM!I8,'Cennik ZSSK'!$A$4:$A$55,'Cennik ZSSK'!$B$4:$B$55,NA(),0)) -> 3.4 | J8: =IF(KM!J8=0,0,_xlfn.XLOOKUP(KM!J8,'Cennik ZSSK'!$A$4:$A$55,'Cennik ZSSK'!$B$4:$B$55,NA(),0)) -> 6.5 | ... M8: =IF(KM!M8=0,0,_xlfn.XLOOKUP(KM!M8,'Cennik ZSSK'!$A$4:$A$55,'Cennik ZSSK'!$B$4:$B$55,NA(),0)) -> 10.5
B9: Rožňava | C9: =IF(KM!C9=0,0,_xlfn.XLOOKUP(KM!C9,'Cennik ZSSK'!$A$4:$A$55,'Cennik ZSSK'!$B$4:$B$55,NA(),0)) -> 15 | D9: =IF(KM!D9=0,0,_xlfn.XLOOKUP(KM!D9,'Cennik ZSSK'!$A$4:$A$55,'Cennik ZSSK'!$B$4:$B$55,NA(),0)) -> 12.4 | E9: =IF(KM!E9=0,0,_xlfn.XLOOKUP(KM!E9,'Cennik ZSSK'!$A$4:$A$55,'Cennik ZSSK'!$B$4:$B$55,NA(),0)) -> 7.2 | F9: =IF(KM!F9=0,0,_xlfn.XLOOKUP(KM!F9,'Cennik ZSSK'!$A$4:$A$55,'Cennik ZSSK'!$B$4:$B$55,NA(),0)) -> 6.5 | G9: =IF(KM!G9=0,0,_xlfn.XLOOKUP(KM!G9,'Cennik ZSSK'!$A$4:$A$55,'Cennik ZSSK'!$B$4:$B$55,NA(),0)) -> 3.8 | H9: =IF(KM!H9=0,0,_xlfn.XLOOKUP(KM!H9,'Cennik ZSSK'!$A$4:$A$55,'Cennik ZSSK'!$B$4:$B$55,NA(),0)) -> 3.4 | I9: =IF(KM!I9=0,0,_xlfn.XLOOKUP(KM!I9,'Cennik ZSSK'!$A$4:$A$55,'Cennik ZSSK'!$B$4:$B$55,NA(),0)) -> 0 | J9: =IF(KM!J9=0,0,_xlfn.XLOOKUP(KM!J9,'Cennik ZSSK'!$A$4:$A$55,'Cennik ZSSK'!$B$4:$B$55,NA(),0)) -> 3.8 | ... M9: =IF(KM!M9=0,0,_xlfn.XLOOKUP(KM!M9,'Cennik ZSSK'!$A$4:$A$55,'Cennik ZSSK'!$B$4:$B$55,NA(),0)) -> 8.1
B10: Košice | C10: =IF(KM!C10=0,0,_xlfn.XLOOKUP(KM!C10,'Cennik ZSSK'!$A$4:$A$55,'Cennik ZSSK'!$B$4:$B$55,NA(),0)) -> 17.7 | D10: =IF(KM!D10=0,0,_xlfn.XLOOKUP(KM!D10,'Cennik ZSSK'!$A$4:$A$55,'Cennik ZSSK'!$B$4:$B$55,NA(),0)) -> 15.1 | E10: =IF(KM!E10=0,0,_xlfn.XLOOKUP(KM!E10,'Cennik ZSSK'!$A$4:$A$55,'Cennik ZSSK'!$B$4:$B$55,NA(),0)) -> 9.8 | F10: =IF(KM!F10=0,0,_xlfn.XLOOKUP(KM!F10,'Cennik ZSSK'!$A$4:$A$55,'Cennik ZSSK'!$B$4:$B$55,NA(),0)) -> 8.4 | G10: =IF(KM!G10=0,0,_xlfn.XLOOKUP(KM!G10,'Cennik ZSSK'!$A$4:$A$55,'Cennik ZSSK'!$B$4:$B$55,NA(),0)) -> 7 | H10: =IF(KM!H10=0,0,_xlfn.XLOOKUP(KM!H10,'Cennik ZSSK'!$A$4:$A$55,'Cennik ZSSK'!$B$4:$B$55,NA(),0)) -> 6.5 | I10: =IF(KM!I10=0,0,_xlfn.XLOOKUP(KM!I10,'Cennik ZSSK'!$A$4:$A$55,'Cennik ZSSK'!$B$4:$B$55,NA(),0)) -> 3.8 | J10: =IF(KM!J10=0,0,_xlfn.XLOOKUP(KM!J10,'Cennik ZSSK'!$A$4:$A$55,'Cennik ZSSK'!$B$4:$B$55,NA(),0)) -> 0 | ... M10: =IF(KM!M10=0,0,_xlfn.XLOOKUP(KM!M10,'Cennik ZSSK'!$A$4:$A$55,'Cennik ZSSK'!$B$4:$B$55,NA(),0)) -> 5.3
B11: Prešov | C11: =IF(KM!C11=0,0,_xlfn.XLOOKUP(KM!C11,'Cennik ZSSK'!$A$4:$A$55,'Cennik ZSSK'!$B$4:$B$55,NA(),0)) -> 17.6 | D11: =IF(KM!D11=0,0,_xlfn.XLOOKUP(KM!D11,'Cennik ZSSK'!$A$4:$A$55,'Cennik ZSSK'!$B$4:$B$55,NA(),0)) -> 13.5 | E11: =IF(KM!E11=0,0,_xlfn.XLOOKUP(KM!E11,'Cennik ZSSK'!$A$4:$A$55,'Cennik ZSSK'!$B$4:$B$55,NA(),0)) -> 10.1 | F11: =IF(KM!F11=0,0,_xlfn.XLOOKUP(KM!F11,'Cennik ZSSK'!$A$4:$A$55,'Cennik ZSSK'!$B$4:$B$55,NA(),0)) -> 6.8 | G11: =IF(KM!G11=0,0,_xlfn.XLOOKUP(KM!G11,'Cennik ZSSK'!$A$4:$A$55,'Cennik ZSSK'!$B$4:$B$55,NA(),0)) -> 7.1 | H11: =IF(KM!H11=0,0,_xlfn.XLOOKUP(KM!H11,'Cennik ZSSK'!$A$4:$A$55,'Cennik ZSSK'!$B$4:$B$55,NA(),0)) -> 8.1 | I11: =IF(KM!I11=0,0,_xlfn.XLOOKUP(KM!I11,'Cennik ZSSK'!$A$4:$A$55,'Cennik ZSSK'!$B$4:$B$55,NA(),0)) -> 4.9 | J11: =IF(KM!J11=0,0,_xlfn.XLOOKUP(KM!J11,'Cennik ZSSK'!$A$4:$A$55,'Cennik ZSSK'!$B$4:$B$55,NA(),0)) -> 2.3 | ... M11: =IF(KM!M11=0,0,_xlfn.XLOOKUP(KM!M11,'Cennik ZSSK'!$A$4:$A$55,'Cennik ZSSK'!$B$4:$B$55,NA(),0)) -> 5.7
B12: Humenné | C12: =IF(KM!C12=0,0,_xlfn.XLOOKUP(KM!C12,'Cennik ZSSK'!$A$4:$A$55,'Cennik ZSSK'!$B$4:$B$55,NA(),0)) -> 21.1 | D12: =IF(KM!D12=0,0,_xlfn.XLOOKUP(KM!D12,'Cennik ZSSK'!$A$4:$A$55,'Cennik ZSSK'!$B$4:$B$55,NA(),0)) -> 16.5 | E12: =IF(KM!E12=0,0,_xlfn.XLOOKUP(KM!E12,'Cennik ZSSK'!$A$4:$A$55,'Cennik ZSSK'!$B$4:$B$55,NA(),0)) -> 13 | F12: =IF(KM!F12=0,0,_xlfn.XLOOKUP(KM!F12,'Cennik ZSSK'!$A$4:$A$55,'Cennik ZSSK'!$B$4:$B$55,NA(),0)) -> 9.8 | G12: =IF(KM!G12=0,0,_xlfn.XLOOKUP(KM!G12,'Cennik ZSSK'!$A$4:$A$55,'Cennik ZSSK'!$B$4:$B$55,NA(),0)) -> 10.1 | H12: =IF(KM!H12=0,0,_xlfn.XLOOKUP(KM!H12,'Cennik ZSSK'!$A$4:$A$55,'Cennik ZSSK'!$B$4:$B$55,NA(),0)) -> 9.6 | I12: =IF(KM!I12=0,0,_xlfn.XLOOKUP(KM!I12,'Cennik ZSSK'!$A$4:$A$55,'Cennik ZSSK'!$B$4:$B$55,NA(),0)) -> 7.2 | J12: =IF(KM!J12=0,0,_xlfn.XLOOKUP(KM!J12,'Cennik ZSSK'!$A$4:$A$55,'Cennik ZSSK'!$B$4:$B$55,NA(),0)) -> 4.1 | ... M12: =IF(KM!M12=0,0,_xlfn.XLOOKUP(KM!M12,'Cennik ZSSK'!$A$4:$A$55,'Cennik ZSSK'!$B$4:$B$55,NA(),0)) -> 1.4
B13: Snina | C13: =IF(KM!C13=0,0,_xlfn.XLOOKUP(KM!C13,'Cennik ZSSK'!$A$4:$A$55,'Cennik ZSSK'!$B$4:$B$55,NA(),0)) -> 21.9 | D13: =IF(KM!D13=0,0,_xlfn.XLOOKUP(KM!D13,'Cennik ZSSK'!$A$4:$A$55,'Cennik ZSSK'!$B$4:$B$55,NA(),0)) -> 17.3 | E13: =IF(KM!E13=0,0,_xlfn.XLOOKUP(KM!E13,'Cennik ZSSK'!$A$4:$A$55,'Cennik ZSSK'!$B$4:$B$55,NA(),0)) -> 13.8 | F13: =IF(KM!F13=0,0,_xlfn.XLOOKUP(KM!F13,'Cennik ZSSK'!$A$4:$A$55,'Cennik ZSSK'!$B$4:$B$55,NA(),0)) -> 10.7 | G13: =IF(KM!G13=0,0,_xlfn.XLOOKUP(KM!G13,'Cennik ZSSK'!$A$4:$A$55,'Cennik ZSSK'!$B$4:$B$55,NA(),0)) -> 10.9 | H13: =IF(KM!H13=0,0,_xlfn.XLOOKUP(KM!H13,'Cennik ZSSK'!$A$4:$A$55,'Cennik ZSSK'!$B$4:$B$55,NA(),0)) -> 10.5 | I13: =IF(KM!I13=0,0,_xlfn.XLOOKUP(KM!I13,'Cennik ZSSK'!$A$4:$A$55,'Cennik ZSSK'!$B$4:$B$55,NA(),0)) -> 8.1 | J13: =IF(KM!J13=0,0,_xlfn.XLOOKUP(KM!J13,'Cennik ZSSK'!$A$4:$A$55,'Cennik ZSSK'!$B$4:$B$55,NA(),0)) -> 5.3 | ... M13: =IF(KM!M13=0,0,_xlfn.XLOOKUP(KM!M13,'Cennik ZSSK'!$A$4:$A$55,'Cennik ZSSK'!$B$4:$B$55,NA(),0)) -> 0

Sheet Cennik ZSSK
A1: CENNÍK ZSSK – OBYČAJNÉ CELÉ CESTOVNÉ
A2: 2. vozňová trieda • platnosť od 1. 7. 2026 • zdroj: PP-ZSSK, Cenník č. 1
A3: Tarifná vzdialenosť (km) | B3: Cena (EUR)
A4: 0 | B4: 0
A5: 22 | B5: 1.4
A6: 25 | B6: 1.6
A7: 38 | B7: 2.3
A8: 61 | B8: 3.4
A9: 68 | B9: 3.8
A10: 69 | B10: 3.8
A11: 75 | B11: 4.1
A12: 80 | B12: 4.4
A13: 83 | B13: 4.6
A14: 84 | B14: 4.6
A15: 89 | B15: 4.9
... A55: 513 | B55: 21.9
